BEGIN:VCALENDAR
VERSION:2.0
PRODID:-//eventon.com NONSGML v1.0//EN
BEGIN:VEVENT
UID:69ea07d6e9ffd
DTSTAMP:20260423T065150
DTSTART:20260312T143000Z
DTEND:20260316T070000Z
LOCATION:Speakeasy 412 Congress Ave\,  Austin\,  Texas 78701
SUMMARY:German Haus at SXSW 2026
DESCRIPTION: The GERMAN HAUS is the main venue of the joint German presentation at SXSW and it features a variety of curated networking events\,  roundtables\,  presentations\,  and music performances\,  creating a unique environment for professional exchange\,  international networking\,  and the discovery of new creative partnerships.
END:VEVENT
END:VCALENDAR