BEGIN:VCALENDAR
VERSION:2.0
PRODID:-//eventon.com NONSGML v1.0//EN
BEGIN:VEVENT
UID:69e9f324904ce
DTSTAMP:20260423T052332
DTSTART:20260318T010000Z
DTEND:20260317T050000Z
LOCATION:Speakeasy 412 Congress Ave\,  Austin\,  Texas 78701
SUMMARY:The Spazmatics St. Patrick's Day Bash at Speakeasy
DESCRIPTION: An Austin tradition since 1997 now with a St. Patrick’s Day twist. Celebrate St. Patrick’s Day on Tuesday\,  March 17th at Speakeasy as The Spazmatics take over the Music Lounge for a night of high-energy 80s New Wave hits. Doors open at 8:00 PM\,  with The Spazmatics taking the stage[..]
END:VEVENT
END:VCALENDAR