BEGIN:VCALENDAR
VERSION:2.0
PRODID:-//eventon.com NONSGML v1.0//EN
BEGIN:VEVENT
UID:69e7395fbc4f7
DTSTAMP:20260421T034623
DTSTART:20260218T050000Z
DTEND:20260218T070000Z
LOCATION:
SUMMARY:Closed for Private event
DESCRIPTION: Speakeasy is closed tonight for a private event tonight. We will be open tomorrow with regularly scheduled entertainment.
END:VEVENT
END:VCALENDAR