BEGIN:VCALENDAR
VERSION:2.0
PRODID:-//eventon.com NONSGML v1.0//EN
BEGIN:VEVENT
UID:69ec2b6ea4e1a
DTSTAMP:20260424T214814
DTSTART:20251103T020000Z
DTEND:20251102T050000Z
LOCATION:Speakeasy 412 Congress Ave\,  Austin\,  Texas 78701
SUMMARY:Aaron Gee
DESCRIPTION: Aaron Gee is a powerhouse vocalist and performer whose sound blends classic soul\,  modern R&B\,  and smooth pop energy. Known for his effortless stage presence and rich vocal tone\,  Aaron connects with audiences through both emotion and groove. Whether he’s fronting a live band or delivering an intimate acoustic set\, [..]
END:VEVENT
END:VCALENDAR