BEGIN:VCALENDAR
VERSION:2.0
PRODID:-//eventon.com NONSGML v1.0//EN
BEGIN:VEVENT
UID:69ec17946a75c
DTSTAMP:20260424T202332
DTSTART:20251121T020000Z
DTEND:20251120T070000Z
LOCATION:Speakeasy 412 Congress Ave\,  Austin\,  Texas 78701
SUMMARY:Konzi
DESCRIPTION: KONZI is an Indie/Alt Rock band from Austin\,  Texas. The band was formed during the depths of the 2020 pandemic\,  arguably one of the darkest moments in the recent history of creativity\,  with one goal... To never let the music die. With that goal and the band's thoughtfully crafted song-scapes\, [..]
END:VEVENT
END:VCALENDAR