BEGIN:VCALENDAR
VERSION:2.0
PRODID:-//eventon.com NONSGML v1.0//EN
BEGIN:VEVENT
UID:69ec12312c3ef
DTSTAMP:20260424T200033
DTSTART:20251114T020000Z
DTEND:20251113T070000Z
LOCATION:Speakeasy 412 Congress Ave\,  Austin\,  Texas 78701
SUMMARY:Zach Carney Band
DESCRIPTION: Zach Carney is a highly accomplished musician and songwriter with an impressive list of accolades. Having graced the stage at the renowned Blues On The Green Festival in Zilker Park\,  Austin\,  Texas\,  Zach Carney delivered an unforgettable performance to an audience of over 30\, 000 music enthusiasts. Not only does Zach[..]
END:VEVENT
END:VCALENDAR