BEGIN:VCALENDAR
VERSION:2.0
PRODID:-//eventon.com NONSGML v1.0//EN
BEGIN:VEVENT
UID:69ebe661ee6e3
DTSTAMP:20260424T165337
DTSTART:20251107T020000Z
DTEND:20251106T070000Z
LOCATION:Speakeasy 412 Congress Ave\,  Austin\,  Texas 78701
SUMMARY:A-TX Rejects
DESCRIPTION: Always ready bringing all the alternative and grunge hits you can handle. Relive the energy and nostalgic atmosphere as we perform popular favorites from Nirvana\,  Pearl Jam\,  Green Day\,  Chevelle and more.
END:VEVENT
END:VCALENDAR