BEGIN:VCALENDAR
VERSION:2.0
PRODID:-//eventon.com NONSGML v1.0//EN
BEGIN:VEVENT
UID:69ebcd449bc76
DTSTAMP:20260424T150628
DTSTART:20251031T020000Z
DTEND:20251030T070000Z
LOCATION:Speakeasy 412 Congress Ave\,  Austin\,  Texas 78701
SUMMARY:Real Decoys
DESCRIPTION: Mark your calendars! Thursday 10/30/25 we’ll be bringing our modern/indie/alt rock back to the 512 at Speakeasy in the center of downtown. Featuring the drum skills of Analina Devora-drummer and bass stylings of jorgepalomobass\,  this is a night you don’t want to miss! Live music from 9:30p-1:30
END:VEVENT
END:VCALENDAR