BEGIN:VCALENDAR
VERSION:2.0
PRODID:-//eventon.com NONSGML v1.0//EN
BEGIN:VEVENT
UID:69ebb8e9bb850
DTSTAMP:20260424T133937
DTSTART:20251101T020000Z
DTEND:20251031T070000Z
LOCATION:Speakeasy 412 Congress Ave\,  Austin\,  Texas 78701
SUMMARY:Emocean Ave
DESCRIPTION: COME SING YOUR HEART OUT to the best Emo and Pop Punk at Speakeasy with EMOcean Avenue! COSTUME CONTEST with a $500 PRIZE to the winner. EMOcean Avenue presents A HALLOWEEN YOU CAN'T SWEAT OUT in the Ballroom at Speakeasy. THE place to be Halloween night! Expect a night full[..]
END:VEVENT
END:VCALENDAR