BEGIN:VCALENDAR
VERSION:2.0
PRODID:-//eventon.com NONSGML v1.0//EN
BEGIN:VEVENT
UID:69ebb9a541073
DTSTAMP:20260424T134245
DTSTART:20251026T000000Z
DTEND:20251026T030000Z
LOCATION:Speakeasy 412 Congress Ave\,  Austin\,  Texas 78701
SUMMARY:Rock in Spanish
DESCRIPTION: The vibrant Austin music scene is gearing up for a trip back in time to the epicenter of Latin American rock with a special event at the iconic Speakeasy Venue. On October 25\,  2025\,  a night of tribute to legendary Argentinian and Venezuelan rock will echo in the heart of[..]
END:VEVENT
END:VCALENDAR