BEGIN:VCALENDAR
VERSION:2.0
PRODID:-//eventon.com NONSGML v1.0//EN
BEGIN:VEVENT
UID:69ebb90820c5f
DTSTAMP:20260424T134008
DTSTART:20250906T020000Z
DTEND:20250905T050000Z
LOCATION:Speakeasy 412 Congress Ave\,  Austin\,  Texas 78701
SUMMARY:90's Night
DESCRIPTION: 90s Night every Friday at 9 PM! Come dance\,  vibe to your favorite throwback tracks\,  and enjoy a night of great music and good times!
END:VEVENT
END:VCALENDAR