BEGIN:VCALENDAR
VERSION:2.0
PRODID:-//eventon.com NONSGML v1.0//EN
BEGIN:VEVENT
UID:69ebb5b1bd347
DTSTAMP:20260424T132553
DTSTART:20250822T023000Z
DTEND:20250822T045000Z
LOCATION:Speakeasy 412 Congress Ave\,  Austin\,  Texas 78701
SUMMARY:Konzi
DESCRIPTION: Get Free Tickets Here. &nbsp;
END:VEVENT
END:VCALENDAR