BEGIN:VCALENDAR
VERSION:2.0
PRODID:-//eventon.com NONSGML v1.0//EN
BEGIN:VEVENT
UID:69eba0643d4d7
DTSTAMP:20260424T115500
DTSTART:20250813T010000Z
DTEND:20250819T050000Z
LOCATION:Speakeasy 412 Congress Ave\,  Austin\,  Texas 78701
SUMMARY:Tuesdays Unplugged
DESCRIPTION: Tuesdays Unplugged is your midweek wind-down\,  with live acoustic music starting at 8:00 PM. Featuring talented local artists in a relaxed\,  intimate setting\,  it's the perfect way to chill out\,  sip something good\,  and enjoy laid-back live tunes! This project is supported in part by the City of Austin Economic[..]
END:VEVENT
END:VCALENDAR