BEGIN:VCALENDAR
VERSION:2.0
PRODID:-//eventon.com NONSGML v1.0//EN
BEGIN:VEVENT
UID:69ebb66cead3d
DTSTAMP:20260424T132900
DTSTART:20250815T023000Z
DTEND:20250815T045000Z
LOCATION:Speakeasy 412 Congress Ave\,  Austin\,  Texas 78701
SUMMARY:Konzi
DESCRIPTION: Get Free Tickets Here. &nbsp;
END:VEVENT
END:VCALENDAR