BEGIN:VCALENDAR
VERSION:2.0
PRODID:-//eventon.com NONSGML v1.0//EN
BEGIN:VEVENT
UID:69ebca6a5f00d
DTSTAMP:20260424T145418
DTSTART:20250616T010000Z
DTEND:20250616T045000Z
LOCATION:Speakeasy 412 Congress Ave\,  Austin\,  Texas 78701
SUMMARY:Kate Wright
DESCRIPTION: Kate Wright
END:VEVENT
END:VCALENDAR