BEGIN:VCALENDAR
VERSION:2.0
PRODID:-//eventon.com NONSGML v1.0//EN
BEGIN:VEVENT
UID:69ebe04d37618
DTSTAMP:20260424T162741
DTSTART:20250630T010000Z
DTEND:20250630T045000Z
LOCATION:Speakeasy 412 Congress Ave\,  Austin\,  Texas 78701
SUMMARY:Kate Wright
DESCRIPTION: Kate Wright
END:VEVENT
END:VCALENDAR