BEGIN:VCALENDAR
VERSION:2.0
PRODID:-//eventon.com NONSGML v1.0//EN
BEGIN:VEVENT
UID:69ebf9a069366
DTSTAMP:20260424T181544
DTSTART:20250628T020000Z
DTEND:20250628T045000Z
LOCATION:Speakeasy 412 Congress Ave\,  Austin\,  Texas 78701
SUMMARY:Raul Ayala Band
DESCRIPTION: Raul Ayala Band
END:VEVENT
END:VCALENDAR