BEGIN:VCALENDAR
VERSION:2.0
PRODID:-//eventon.com NONSGML v1.0//EN
BEGIN:VEVENT
UID:69ec121c0eb69
DTSTAMP:20260424T200012
DTSTART:20250625T020000Z
DTEND:20250625T045000Z
LOCATION:Speakeasy 412 Congress Ave\,  Austin\,  Texas 78701
SUMMARY:Robert Jericho
DESCRIPTION: Robert Jericho
END:VEVENT
END:VCALENDAR