BEGIN:VCALENDAR
VERSION:2.0
PRODID:-//eventon.com NONSGML v1.0//EN
BEGIN:VEVENT
UID:69ec3f92a95e1
DTSTAMP:20260424T231410
DTSTART:20250618T020000Z
DTEND:20250618T045000Z
LOCATION:Speakeasy 412 Congress Ave\,  Austin\,  Texas 78701
SUMMARY:John Frischer
DESCRIPTION: John Frischer
END:VEVENT
END:VCALENDAR