BEGIN:VCALENDAR
VERSION:2.0
PRODID:-//eventon.com NONSGML v1.0//EN
BEGIN:VEVENT
UID:69ecd08f8636f
DTSTAMP:20260425T093247
DTSTART:20250621T020000Z
DTEND:20250621T045000Z
LOCATION:Speakeasy 412 Congress Ave\,  Austin\,  Texas 78701
SUMMARY:Faux Lo 90's Night!
DESCRIPTION: Faux Lo 90's Night!
END:VEVENT
END:VCALENDAR