BEGIN:VCALENDAR
VERSION:2.0
PRODID:-//eventon.com NONSGML v1.0//EN
BEGIN:VEVENT
UID:69ece6d713ebf
DTSTAMP:20260425T110751
DTSTART:20250620T020000Z
DTEND:20250620T045000Z
LOCATION:Speakeasy 412 Congress Ave\,  Austin\,  Texas 78701
SUMMARY:Shayne Hammond Band
DESCRIPTION: Shayne Hammond Band
END:VEVENT
END:VCALENDAR