BEGIN:VCALENDAR
VERSION:2.0
PRODID:-//eventon.com NONSGML v1.0//EN
BEGIN:VEVENT
UID:69ecfea5d02db
DTSTAMP:20260425T124925
DTSTART:20250614T020000Z
DTEND:20250614T045000Z
LOCATION:Speakeasy 412 Congress Ave\,  Austin\,  Texas 78701
SUMMARY:Konami Code 90's Night
DESCRIPTION: Konami Code 90's Night
END:VEVENT
END:VCALENDAR