BEGIN:VCALENDAR
VERSION:2.0
PRODID:-//eventon.com NONSGML v1.0//EN
BEGIN:VEVENT
UID:69ed15ddacf51
DTSTAMP:20260425T142829
DTSTART:20250613T020000Z
DTEND:20250613T045000Z
LOCATION:Speakeasy 412 Congress Ave\,  Austin\,  Texas 78701
SUMMARY:Hello Chaser
DESCRIPTION: Hello Chaser
END:VEVENT
END:VCALENDAR