BEGIN:VCALENDAR
VERSION:2.0
PRODID:-//eventon.com NONSGML v1.0//EN
BEGIN:VEVENT
UID:69ed2b0b96234
DTSTAMP:20260425T155851
DTSTART:20250610T010000Z
DTEND:20250610T045000Z
LOCATION:Speakeasy 412 Congress Ave\,  Austin\,  Texas 78701
SUMMARY:Open Mic with Raul Ochoa
DESCRIPTION: Open Mic with Raul Ochoa
END:VEVENT
END:VCALENDAR