BEGIN:VCALENDAR
VERSION:2.0
PRODID:-//eventon.com NONSGML v1.0//EN
BEGIN:VEVENT
UID:69ed4131c8052
DTSTAMP:20260425T173321
DTSTART:20250609T010000Z
DTEND:20250609T045000Z
LOCATION:Speakeasy 412 Congress Ave\,  Austin\,  Texas 78701
SUMMARY:Raul Ochoa
DESCRIPTION: Raul Ochoa
END:VEVENT
END:VCALENDAR