BEGIN:VCALENDAR
VERSION:2.0
PRODID:-//eventon.com NONSGML v1.0//EN
BEGIN:VEVENT
UID:69ed5854b2af4
DTSTAMP:20260425T191204
DTSTART:20250607T020000Z
DTEND:20250607T045000Z
LOCATION:Speakeasy 412 Congress Ave\,  Austin\,  Texas 78701
SUMMARY:Type A 90's Night!
DESCRIPTION: Type A 90's Night!
END:VEVENT
END:VCALENDAR