BEGIN:VCALENDAR
VERSION:2.0
PRODID:-//eventon.com NONSGML v1.0//EN
BEGIN:VEVENT
UID:69ed70f18ea04
DTSTAMP:20260425T205705
DTSTART:20250606T020000Z
DTEND:20250606T045000Z
LOCATION:Speakeasy 412 Congress Ave\,  Austin\,  Texas 78701
SUMMARY:Kate Wright Band
DESCRIPTION: Kate Wright Band
END:VEVENT
END:VCALENDAR