BEGIN:VCALENDAR
VERSION:2.0
PRODID:-//eventon.com NONSGML v1.0//EN
BEGIN:VEVENT
UID:69ea9835b68f1
DTSTAMP:20260423T170749
DTSTART:20231120T010000Z
DTEND:20231120T045000Z
LOCATION:
SUMMARY:Nathan Lugo
DESCRIPTION: Nathan Lugo
END:VEVENT
END:VCALENDAR