BEGIN:VCALENDAR
VERSION:2.0
PRODID:-//eventon.com NONSGML v1.0//EN
BEGIN:VEVENT
UID:69ea679f54a7e
DTSTAMP:20260423T134031
DTSTART:20231114T230000Z
DTEND:20231115T045000Z
LOCATION:Speakeasy 412 Congress Ave\,  Austin\,  Texas 78701
SUMMARY:Sir William
DESCRIPTION: Sir William
END:VEVENT
END:VCALENDAR