BEGIN:VCALENDAR
VERSION:2.0
PRODID:-//eventon.com NONSGML v1.0//EN
BEGIN:VEVENT
UID:69ea5127082d6
DTSTAMP:20260423T120439
DTSTART:20231113T010000Z
DTEND:20231113T045000Z
LOCATION:
SUMMARY:Raul Ochoa
DESCRIPTION: Raul Ochoa
END:VEVENT
END:VCALENDAR