BEGIN:VCALENDAR
VERSION:2.0
PRODID:-//eventon.com NONSGML v1.0//EN
BEGIN:VEVENT
UID:69ea405d10562
DTSTAMP:20260423T105301
DTSTART:20231111T023000Z
DTEND:20231111T045000Z
LOCATION:
SUMMARY:EMOcean Avenue
DESCRIPTION: EMOcean Avenue
END:VEVENT
END:VCALENDAR