BEGIN:VCALENDAR
VERSION:2.0
PRODID:-//eventon.com NONSGML v1.0//EN
BEGIN:VEVENT
UID:69ea3a632eed5
DTSTAMP:20260423T102731
DTSTART:20231110T023000Z
DTEND:20231110T045000Z
LOCATION:
SUMMARY:Faux Lo
DESCRIPTION: Faux Lo
END:VEVENT
END:VCALENDAR