BEGIN:VCALENDAR
VERSION:2.0
PRODID:-//eventon.com NONSGML v1.0//EN
BEGIN:VEVENT
UID:69ea10c5e45f4
DTSTAMP:20260423T072957
DTSTART:20231108T010000Z
DTEND:20231108T045000Z
LOCATION:
SUMMARY:John Frischer
DESCRIPTION: John Frischer
END:VEVENT
END:VCALENDAR