BEGIN:VCALENDAR
VERSION:2.0
PRODID:-//eventon.com NONSGML v1.0//EN
BEGIN:VEVENT
UID:69e9e4b75ab1c
DTSTAMP:20260423T042159
DTSTART:20231104T023000Z
DTEND:20231104T045000Z
LOCATION:Speakeasy 412 Congress Ave\,  Austin\,  Texas 78701
SUMMARY:Type A
DESCRIPTION: Type A
END:VEVENT
END:VCALENDAR