BEGIN:VCALENDAR
VERSION:2.0
PRODID:-//eventon.com NONSGML v1.0//EN
BEGIN:VEVENT
UID:69e9cbb4d21fc
DTSTAMP:20260423T023516
DTSTART:20231103T023000Z
DTEND:20231103T045000Z
LOCATION:Speakeasy 412 Congress Ave\,  Austin\,  Texas 78701
SUMMARY:The Lonestar Souvenirs
DESCRIPTION: The Lonestar Souvenirs
END:VEVENT
END:VCALENDAR