BEGIN:VCALENDAR
VERSION:2.0
PRODID:-//eventon.com NONSGML v1.0//EN
BEGIN:VEVENT
UID:69e9b57e31aac
DTSTAMP:20260423T010030
DTSTART:20231020T023000Z
DTEND:20231020T045000Z
LOCATION:
SUMMARY:Faux Lo
DESCRIPTION: Faux Lo
END:VEVENT
END:VCALENDAR