BEGIN:VCALENDAR
VERSION:2.0
PRODID:-//eventon.com NONSGML v1.0//EN
BEGIN:VEVENT
UID:69e99eb0b2b9f
DTSTAMP:20260422T232312
DTSTART:20231101T010000Z
DTEND:20231101T045000Z
LOCATION:
SUMMARY:Halloween-Chuck Shaw
DESCRIPTION: Halloween-Chuck Shaw
END:VEVENT
END:VCALENDAR