BEGIN:VCALENDAR
VERSION:2.0
PRODID:-//eventon.com NONSGML v1.0//EN
BEGIN:VEVENT
UID:69e93aec7e3a8
DTSTAMP:20260422T161732
DTSTART:20231025T010000Z
DTEND:20231025T045000Z
LOCATION:
SUMMARY:Dennis Dietz
DESCRIPTION: Dennis Dietz
END:VEVENT
END:VCALENDAR