BEGIN:VCALENDAR
VERSION:2.0
PRODID:-//eventon.com NONSGML v1.0//EN
BEGIN:VEVENT
UID:69e9256f4d09b
DTSTAMP:20260422T144551
DTSTART:20231023T010000Z
DTEND:20231023T045000Z
LOCATION:
SUMMARY:Raul Ochoa
DESCRIPTION: Raul Ochoa
END:VEVENT
END:VCALENDAR