BEGIN:VCALENDAR
VERSION:2.0
PRODID:-//eventon.com NONSGML v1.0//EN
BEGIN:VEVENT
UID:69e91113e6db2
DTSTAMP:20260422T131859
DTSTART:20231021T023000Z
DTEND:20231021T045000Z
LOCATION:
SUMMARY:Eninety3
DESCRIPTION: Eninety3
END:VEVENT
END:VCALENDAR