BEGIN:VCALENDAR
VERSION:2.0
PRODID:-//eventon.com NONSGML v1.0//EN
BEGIN:VEVENT
UID:69e8e50c6ea06
DTSTAMP:20260422T101108
DTSTART:20231014T023000Z
DTEND:20231014T045000Z
LOCATION:
SUMMARY:EMOcean Avenue
DESCRIPTION: EMOcean Avenue
END:VEVENT
END:VCALENDAR