BEGIN:VCALENDAR
VERSION:2.0
PRODID:-//eventon.com NONSGML v1.0//EN
BEGIN:VEVENT
UID:69e8ce7672b0c
DTSTAMP:20260422T083446
DTSTART:20231013T023000Z
DTEND:20231013T045000Z
LOCATION:
SUMMARY:Faux Lo
DESCRIPTION: Faux Lo
END:VEVENT
END:VCALENDAR