BEGIN:VCALENDAR
VERSION:2.0
PRODID:-//eventon.com NONSGML v1.0//EN
BEGIN:VEVENT
UID:69e89abb140ee
DTSTAMP:20260422T045403
DTSTART:20231009T010000Z
DTEND:20231009T045000Z
LOCATION:
SUMMARY:Nathan Lugo
DESCRIPTION: Nathan Lugo
END:VEVENT
END:VCALENDAR