BEGIN:VCALENDAR
VERSION:2.0
PRODID:-//eventon.com NONSGML v1.0//EN
BEGIN:VEVENT
UID:69e88163de906
DTSTAMP:20260422T030555
DTSTART:20231008T023000Z
DTEND:20231008T045000Z
LOCATION:
SUMMARY:Sing Along Saturdays w/The Lonestar Souvenirs
DESCRIPTION: Sing Along Saturdays w/The Lonestar Souvenirs
END:VEVENT
END:VCALENDAR