BEGIN:VCALENDAR
VERSION:2.0
PRODID:-//eventon.com NONSGML v1.0//EN
BEGIN:VEVENT
UID:69e86c3534bb3
DTSTAMP:20260422T013533
DTSTART:20231007T023000Z
DTEND:20231007T045000Z
LOCATION:Speakeasy 412 Congress Ave\,  Austin\,  Texas 78701
SUMMARY:Type A
DESCRIPTION: Type A
END:VEVENT
END:VCALENDAR