BEGIN:VCALENDAR
VERSION:2.0
PRODID:-//eventon.com NONSGML v1.0//EN
BEGIN:VEVENT
UID:69e822610b9a4
DTSTAMP:20260421T202033
DTSTART:20230930T023000Z
DTEND:20230930T045000Z
LOCATION:
SUMMARY:Faux Lo
DESCRIPTION: Faux Lo
END:VEVENT
END:VCALENDAR