BEGIN:VCALENDAR
VERSION:2.0
PRODID:-//eventon.com NONSGML v1.0//EN
BEGIN:VEVENT
UID:69e7d857c0384
DTSTAMP:20260421T150439
DTSTART:20230922T020000Z
DTEND:20230922T045000Z
LOCATION:Speakeasy 412 Congress Ave\,  Austin\,  Texas 78701
SUMMARY:Buffalo Sons
DESCRIPTION: Buffalo Sons
END:VEVENT
END:VCALENDAR