BEGIN:VCALENDAR
VERSION:2.0
PRODID:-//eventon.com NONSGML v1.0//EN
BEGIN:VEVENT
UID:69e7bfd015542
DTSTAMP:20260421T132000
DTSTART:20230918T010000Z
DTEND:20230918T045000Z
LOCATION:
SUMMARY:Nathan Lugo
DESCRIPTION: Nathan Lugo
END:VEVENT
END:VCALENDAR