BEGIN:VCALENDAR
VERSION:2.0
PRODID:-//eventon.com NONSGML v1.0//EN
BEGIN:VEVENT
UID:69e7a8be01c0d
DTSTAMP:20260421T114134
DTSTART:20230916T023000Z
DTEND:20230916T045000Z
LOCATION:
SUMMARY:90's Night
DESCRIPTION: 90's Night
END:VEVENT
END:VCALENDAR