BEGIN:VCALENDAR
VERSION:2.0
PRODID:-//eventon.com NONSGML v1.0//EN
BEGIN:VEVENT
UID:69e78eea03c2a
DTSTAMP:20260421T095122
DTSTART:20230913T010000Z
DTEND:20230913T045000Z
LOCATION:
SUMMARY:Nathan Lugo
DESCRIPTION: Nathan Lugo
END:VEVENT
END:VCALENDAR